BEGIN:VCALENDAR
VERSION:2.0
PRODID:-//Managed People Solutions - ECPv6.7.0//NONSGML v1.0//EN
CALSCALE:GREGORIAN
METHOD:PUBLISH
X-WR-CALNAME:Managed People Solutions
X-ORIGINAL-URL:https://managedpeoplesolutions.com
X-WR-CALDESC:Events for Managed People Solutions
REFRESH-INTERVAL;VALUE=DURATION:PT1H
X-Robots-Tag:noindex
X-PUBLISHED-TTL:PT1H
BEGIN:VTIMEZONE
TZID:Africa/Johannesburg
BEGIN:STANDARD
TZOFFSETFROM:+0200
TZOFFSETTO:+0200
TZNAME:SAST
DTSTART:20240101T000000
END:STANDARD
END:VTIMEZONE
BEGIN:VEVENT
DTSTART;VALUE=DATE:20240618
DTEND;VALUE=DATE:20240619
DTSTAMP:20260422T235732
CREATED:20240520T085836Z
LAST-MODIFIED:20240520T085836Z
UID:5546-1718668800-1718755199@managedpeoplesolutions.com
SUMMARY:Excel for Beginners
DESCRIPTION:
URL:https://managedpeoplesolutions.com/event/excel-for-beginners/
LOCATION:Managed People Solutions\, 17 Spartan Crescent\, Eastgate Ext.3\, Sandton\, Johannesburg\, 2090\, South Africa
END:VEVENT
END:VCALENDAR